BEGIN:VCALENDAR
VERSION:2.0
PRODID:-//HACE - ECPv6.15.20//NONSGML v1.0//EN
CALSCALE:GREGORIAN
METHOD:PUBLISH
X-WR-CALNAME:HACE
X-ORIGINAL-URL:https://haceonline.org
X-WR-CALDESC:Events for HACE
REFRESH-INTERVAL;VALUE=DURATION:PT1H
X-Robots-Tag:noindex
X-PUBLISHED-TTL:PT1H
BEGIN:VTIMEZONE
TZID:America/Chicago
BEGIN:DAYLIGHT
TZOFFSETFROM:-0600
TZOFFSETTO:-0500
TZNAME:CDT
DTSTART:20240310T080000
END:DAYLIGHT
BEGIN:STANDARD
TZOFFSETFROM:-0500
TZOFFSETTO:-0600
TZNAME:CST
DTSTART:20241103T070000
END:STANDARD
BEGIN:DAYLIGHT
TZOFFSETFROM:-0600
TZOFFSETTO:-0500
TZNAME:CDT
DTSTART:20250309T080000
END:DAYLIGHT
BEGIN:STANDARD
TZOFFSETFROM:-0500
TZOFFSETTO:-0600
TZNAME:CST
DTSTART:20251102T070000
END:STANDARD
BEGIN:DAYLIGHT
TZOFFSETFROM:-0600
TZOFFSETTO:-0500
TZNAME:CDT
DTSTART:20260308T080000
END:DAYLIGHT
BEGIN:STANDARD
TZOFFSETFROM:-0500
TZOFFSETTO:-0600
TZNAME:CST
DTSTART:20261101T070000
END:STANDARD
END:VTIMEZONE
BEGIN:VEVENT
DTSTART;TZID=America/Chicago:20250430T110000
DTEND;TZID=America/Chicago:20250430T120000
DTSTAMP:20260420T020110
CREATED:20250617T185528Z
LAST-MODIFIED:20250617T185528Z
UID:10000091-1746010800-1746014400@haceonline.org
SUMMARY:Corporate-Community Synergy: Building Win-Win Partnerships
DESCRIPTION:Explore how companies and communities can work together to create mutually beneficial partnerships. Panelists will highlight case studies where corporate support has enhanced community engagement and driven social progress.
URL:https://haceonline.org/event/corporate-community-synergy-building-win-win-partnerships/
LOCATION:Convene Forum North
CATEGORIES:HACE Summit 1
END:VEVENT
BEGIN:VEVENT
DTSTART;TZID=America/Chicago:20250430T094500
DTEND;TZID=America/Chicago:20250430T104500
DTSTAMP:20260420T020110
CREATED:20250617T185538Z
LAST-MODIFIED:20250617T185538Z
UID:10000088-1746006300-1746009900@haceonline.org
SUMMARY:Measuring Impact: Evaluating Success in Multi-Stakeholder Engagement
DESCRIPTION:Learn how to measure the effectiveness of stakeholder engagement efforts. This session will explore key metrics\, tools\, and strategies to assess the success of partnerships and ensure they align with organizational goals
URL:https://haceonline.org/event/measuring-impact-evaluating-success-in-multi-stakeholder-engagement/
LOCATION:Convene Forum North
CATEGORIES:HACE Summit 1
END:VEVENT
END:VCALENDAR