BEGIN:VCALENDAR
VERSION:2.0
PRODID:-//HACE - ECPv6.15.20//NONSGML v1.0//EN
CALSCALE:GREGORIAN
METHOD:PUBLISH
X-WR-CALNAME:HACE
X-ORIGINAL-URL:https://haceonline.org
X-WR-CALDESC:Events for HACE
REFRESH-INTERVAL;VALUE=DURATION:PT1H
X-Robots-Tag:noindex
X-PUBLISHED-TTL:PT1H
BEGIN:VTIMEZONE
TZID:America/Chicago
BEGIN:DAYLIGHT
TZOFFSETFROM:-0600
TZOFFSETTO:-0500
TZNAME:CDT
DTSTART:20240310T080000
END:DAYLIGHT
BEGIN:STANDARD
TZOFFSETFROM:-0500
TZOFFSETTO:-0600
TZNAME:CST
DTSTART:20241103T070000
END:STANDARD
BEGIN:DAYLIGHT
TZOFFSETFROM:-0600
TZOFFSETTO:-0500
TZNAME:CDT
DTSTART:20250309T080000
END:DAYLIGHT
BEGIN:STANDARD
TZOFFSETFROM:-0500
TZOFFSETTO:-0600
TZNAME:CST
DTSTART:20251102T070000
END:STANDARD
BEGIN:DAYLIGHT
TZOFFSETFROM:-0600
TZOFFSETTO:-0500
TZNAME:CDT
DTSTART:20260308T080000
END:DAYLIGHT
BEGIN:STANDARD
TZOFFSETFROM:-0500
TZOFFSETTO:-0600
TZNAME:CST
DTSTART:20261101T070000
END:STANDARD
END:VTIMEZONE
BEGIN:VEVENT
DTSTART;TZID=America/Chicago:20250430T090000
DTEND;TZID=America/Chicago:20250430T093000
DTSTAMP:20260419T231951
CREATED:20250617T185541Z
LAST-MODIFIED:20250617T185541Z
UID:10000087-1746003600-1746005400@haceonline.org
SUMMARY:Cafecito con HACE: Uniting Voices\, Empowering Communities
DESCRIPTION:Our weekly coffee chat comes to the summit! Join us for a live Cafecito con HACE segment.
URL:https://haceonline.org/event/cafecito-con-hace/
LOCATION:Convene Hall North & South
CATEGORIES:HACE Summit 1
END:VEVENT
END:VCALENDAR